BEGIN:VCALENDAR
VERSION:2.0
PRODID:-//wp-events-plugin.com//7.2.3.1//EN
BEGIN:VEVENT
UID:379@swoheritage.ca
DTSTART;TZID=America/Toronto:20240713T100000
DTEND;TZID=America/Toronto:20240713T140000
DTSTAMP:20250202T174038Z
URL:https://swoheritage.ca/events/forc-essexoa-2nd-saturday-office-open-20
 24-07-13/
SUMMARY:FORC-EssexOA 2nd Saturday Office open
DESCRIPTION:The Family History Research Centre is open weekly on Tuesdays 1
 0-2pm\; as well as the 2nd Saturday of the Month (10-2pm\; except Thanksgi
 ving weekend and summer months). See the link below for directions to the 
 Maryvale Building (Prince Rd - College Ave ). Activity - researching\, don
 ating or buying used books\, and networking.\n\nhttps://essex.ogs.on.ca/fr
 anco-ontarienne-research-centre-pionniere-du-sud-ouest/
ATTACH;FMTTYPE=image/jpeg:https://swoheritage.ca/wp-content/uploads/2024/0
 3/FORC-Archives-Library.jpg
LOCATION:Franco-Ontarian Research Centre (FORC)\, 940 Prince Road\, Windsor
  (West end - Sandwich)\, Ontario\, N9C 2Z5\, https://maps.app.goo.gl/EZvmS
 1mXPVwxLMe28\, Canada
X-APPLE-STRUCTURED-LOCATION;VALUE=URI;X-ADDRESS=940 Prince Road\, Windsor (
 West end - Sandwich)\, Ontario\, N9C 2Z5\, https://maps.app.goo.gl/EZvmS1m
 XPVwxLMe28\, Canada;X-APPLE-RADIUS=100;X-TITLE=Franco-Ontarian Research Ce
 ntre (FORC):geo:0,0
END:VEVENT
BEGIN:VTIMEZONE
TZID:America/Toronto
X-LIC-LOCATION:America/Toronto
BEGIN:DAYLIGHT
DTSTART:20240310T030000
TZOFFSETFROM:-0500
TZOFFSETTO:-0400
TZNAME:EDT
END:DAYLIGHT
END:VTIMEZONE
END:VCALENDAR