BEGIN:VCALENDAR
VERSION:2.0
PRODID:-//wp-events-plugin.com//7.2.3.1//EN
BEGIN:VEVENT
UID:390@swoheritage.ca
DTSTART;TZID=America/Toronto:20240419T093000
DTEND;TZID=America/Toronto:20240419T113000
DTSTAMP:20240403T195459Z
URL:https://swoheritage.ca/events/swohc-april-meeting/
SUMMARY:SWOHC April Meeting
DESCRIPTION:https://serbiancentre.com/   6770 Tecumseh Rd. E.\nWindsor\, 
 Ontario N8T 1E6
ATTACH;FMTTYPE=image/jpeg:https://swoheritage.ca/wp-content/uploads/2024/0
 4/heritage-museum.jpg
LOCATION:Serbian Heritage Museum\, 6770 Tecumseh Road East\, Windsor\, N8T 
 1E6\, Canada
X-APPLE-STRUCTURED-LOCATION;VALUE=URI;X-ADDRESS=6770 Tecumseh Road East\, W
 indsor\, N8T 1E6\, Canada;X-APPLE-RADIUS=100;X-TITLE=Serbian Heritage Muse
 um:geo:0,0
END:VEVENT
BEGIN:VTIMEZONE
TZID:America/Toronto
X-LIC-LOCATION:America/Toronto
BEGIN:DAYLIGHT
DTSTART:20240310T030000
TZOFFSETFROM:-0500
TZOFFSETTO:-0400
TZNAME:EDT
END:DAYLIGHT
END:VTIMEZONE
END:VCALENDAR